BEGIN:VCALENDAR
VERSION:2.0
PRODID:-//Lexington - ECPv4.9.8//NONSGML v1.0//EN
CALSCALE:GREGORIAN
METHOD:PUBLISH
X-WR-CALNAME:Lexington
X-ORIGINAL-URL:https://www.lexingtontownship.org
X-WR-CALDESC:Events for Lexington
BEGIN:VTIMEZONE
TZID:America/Detroit
BEGIN:DAYLIGHT
TZOFFSETFROM:-0500
TZOFFSETTO:-0400
TZNAME:EDT
DTSTART:20260308T070000
END:DAYLIGHT
BEGIN:STANDARD
TZOFFSETFROM:-0400
TZOFFSETTO:-0500
TZNAME:EST
DTSTART:20261101T060000
END:STANDARD
END:VTIMEZONE
BEGIN:VEVENT
DTSTART;TZID="America/Detroit":20260505T070000
DTEND;TZID="America/Detroit":20260505T200000
DTSTAMP:20260422T161529
CREATED:20260421T144816Z
LAST-MODIFIED:20260421T144816Z
UID:11449-1777964400-1778011200@www.lexingtontownship.org
SUMMARY:School Election
DESCRIPTION:Polling Location: \n7227 Huron Avenue\nLexington\, MI  48450 \n
URL:https://www.lexingtontownship.org/event/school-election/
END:VEVENT
END:VCALENDAR