BEGIN:VCALENDAR
VERSION:2.0
PRODID:-//Lexington - ECPv4.9.8//NONSGML v1.0//EN
CALSCALE:GREGORIAN
METHOD:PUBLISH
X-WR-CALNAME:Lexington
X-ORIGINAL-URL:https://www.lexingtontownship.org
X-WR-CALDESC:Events for Lexington
BEGIN:VTIMEZONE
TZID:America/Detroit
BEGIN:DAYLIGHT
TZOFFSETFROM:-0500
TZOFFSETTO:-0400
TZNAME:EDT
DTSTART:20220313T070000
END:DAYLIGHT
BEGIN:STANDARD
TZOFFSETFROM:-0400
TZOFFSETTO:-0500
TZNAME:EST
DTSTART:20221106T060000
END:STANDARD
END:VTIMEZONE
BEGIN:VEVENT
DTSTART;TZID="America/Detroit":20220615T190000
DTEND;TZID="America/Detroit":20220615T190000
DTSTAMP:20260424T133949
CREATED:20220622T170432Z
LAST-MODIFIED:20220622T170432Z
UID:6696-1655319600-1655319600@www.lexingtontownship.org
SUMMARY:PC Public Hearing - Food Truck Ordinance
DESCRIPTION:SPECIAL MEETING LEXINGTON TOWNSHIP PLANNING COMMISSION\n7227 Huron Avenue\, Suite 200\nLexington\, MI 48450\nPublic Hearing Notice\nFood Truck Ordinance \nDate: Wednesday\, June 15\, 2022 \nPlace: Lexington Township Hall\, 7227 Huron Avenue\, Lexington\, MI 48450 \nTime: 7:00 PM to be followed by the regular Planning Commission meeting \nTo hear and consider comments on proposed text amendments to Section 2.2.0 General Definition-Mobile Food Vendor and Section 3.56.0 Mobile Food Vendors. The hearing is open to the public to voice their views or to submit written comment. Citizens are encouraged to attend and participate in the hearing. Comments in writing will be considered at the hearing and must be received by the Planning Commission on or before June 15\, 2022 \nAny concerns\, including requirements of the Federal Americans with Disabilities Act\, should be brought to the attention of the Township Clerk prior the Hearing. Please phone at 810-359-5500. \nDoriann Rice\, Lexington Township Clerk \n  \nPublished May 27\, 2022 in the Jeffersonian \n
URL:https://www.lexingtontownship.org/event/pc-public-hearing-food-truck-ordinance/
END:VEVENT
END:VCALENDAR