BEGIN:VCALENDAR
VERSION:2.0
PRODID:-//Lexington - ECPv4.9.8//NONSGML v1.0//EN
CALSCALE:GREGORIAN
METHOD:PUBLISH
X-WR-CALNAME:Lexington
X-ORIGINAL-URL:https://www.lexingtontownship.org
X-WR-CALDESC:Events for Lexington
BEGIN:VTIMEZONE
TZID:America/Detroit
BEGIN:DAYLIGHT
TZOFFSETFROM:-0500
TZOFFSETTO:-0400
TZNAME:EDT
DTSTART:20240310T070000
END:DAYLIGHT
BEGIN:STANDARD
TZOFFSETFROM:-0400
TZOFFSETTO:-0500
TZNAME:EST
DTSTART:20241103T060000
END:STANDARD
END:VTIMEZONE
BEGIN:VEVENT
DTSTART;TZID="America/Detroit":20241001T170000
DTEND;TZID="America/Detroit":20241001T190000
DTSTAMP:20260424T132356
CREATED:20240919T230426Z
LAST-MODIFIED:20240919T231455Z
UID:9610-1727802000-1727809200@www.lexingtontownship.org
SUMMARY:Lexington Township Parks & Recreation Workshop
DESCRIPTION:Lexington Township Parks & Recreation Community Discussion\nDate:\nOctober 1st\, 2024\nTime: \n5:00 to 7:00 PM\nLocation: \nLexington Township Offices\n7227 Huron Avenue\nLexington\, MI 48450 \nLexington Township is developing a Parks and Recreation Plan!\nBy doing so\, the Township will be eligible for State funding for the next 5 years to support potential future projects.\nAdopting this Plan will help the Township focus on strategies for implementing these ideas over the next 5 to 10 years. \n  \nWHAT TO EXPECT\nWe are hosting a guided discussion around parks and recreation needs.\nWe will be exploring ideas for where\, what\, and how the Township might develop their own parks.\nTo do this\, we need your help!\nCome prepared to talk about these ideas with your neighbors\, guided by the Township’s Officials and Planners. \n  \nLexington Township wants to hear from you about\nParks & Recreation!\n  \nCAN’T MAKE IT? TAKE THE SURVEY!\nhttps://rb.gy/q0rb25 \n  \n  \nWorkshop Flyer\n
URL:https://www.lexingtontownship.org/event/lexington-township-parks-recreation-community-discussion/
END:VEVENT
END:VCALENDAR