BEGIN:VCALENDAR
VERSION:2.0
PRODID:-//Lexington - ECPv4.9.8//NONSGML v1.0//EN
CALSCALE:GREGORIAN
METHOD:PUBLISH
X-WR-CALNAME:Lexington
X-ORIGINAL-URL:https://www.lexingtontownship.org
X-WR-CALDESC:Events for Lexington
BEGIN:VTIMEZONE
TZID:America/Detroit
BEGIN:DAYLIGHT
TZOFFSETFROM:-0500
TZOFFSETTO:-0400
TZNAME:EDT
DTSTART:20240310T070000
END:DAYLIGHT
BEGIN:STANDARD
TZOFFSETFROM:-0400
TZOFFSETTO:-0500
TZNAME:EST
DTSTART:20241103T060000
END:STANDARD
END:VTIMEZONE
BEGIN:VEVENT
DTSTART;TZID="America/Detroit":20241105T070000
DTEND;TZID="America/Detroit":20241105T200000
DTSTAMP:20260424T083019
CREATED:20241009T165348Z
LAST-MODIFIED:20241009T165348Z
UID:9650-1730790000-1730836800@www.lexingtontownship.org
SUMMARY:Combined Absent Voter Counting Board processing of Absentee Ballots for the 11/5/2024 General Election
DESCRIPTION:PUBLIC NOTICE \nNotice is hereby given that the\nCOMBINED ABSENT VOTER COUNTING BOARD BETWEEN\nLEXINGTON TOWNSHIP\, SANILAC TOWNSHIP AND WORTH TOWNSHIP\nshall begin processing Absentee Ballots for the November 5\, 2024 General Election as follows: \nDATES AND TIMES:\nMonday\, November 4\, 2024\, from 8:00 A.M. to 5:00 P.M.\nTuesday\, November 5\, 2024\, from 7:00 A.M. to 8:00 P.M. \nLOCATION:\nSanilac Township Hall\, 20 North Ridge Street\, Port Sanilac\, Michigan. \nSix election inspectors\, two from each jurisdiction\,\nwill be processing Absentee Ballots for the Combined Absent Voter Counting Board. \nKatherine Paradoski\, Lexington Township Clerk\nEmail: admin@lexingtontownship.org\, Phone: 810-359-5500\, Ext. 13\nSuzanne Shagena\, Sanilac Township Clerk\nEmail: clerk@sanilactownship.org\, Phone: 810-622-8178 Ext. 2\nJennifer Marshall\, Worth Township Clerk\nEmail: clerk@worthmi.org\, Phone: 810-359-8852 \n
URL:https://www.lexingtontownship.org/event/combined-absent-voter-counting-board-processing-of-absentee-ballots-for-the-11-5-2024-general-election-2/
END:VEVENT
END:VCALENDAR