BEGIN:VCALENDAR
VERSION:2.0
PRODID:-//Lexington - ECPv4.9.8//NONSGML v1.0//EN
CALSCALE:GREGORIAN
METHOD:PUBLISH
X-WR-CALNAME:Lexington
X-ORIGINAL-URL:https://www.lexingtontownship.org
X-WR-CALDESC:Events for Lexington
BEGIN:VTIMEZONE
TZID:America/Detroit
BEGIN:DAYLIGHT
TZOFFSETFROM:-0500
TZOFFSETTO:-0400
TZNAME:EDT
DTSTART:20240310T070000
END:DAYLIGHT
BEGIN:STANDARD
TZOFFSETFROM:-0400
TZOFFSETTO:-0500
TZNAME:EST
DTSTART:20241103T060000
END:STANDARD
END:VTIMEZONE
BEGIN:VEVENT
DTSTART;TZID="America/Detroit":20240410T130000
DTEND;TZID="America/Detroit":20240410T130000
DTSTAMP:20260422T175146
CREATED:20240408T165019Z
LAST-MODIFIED:20240408T165133Z
UID:8988-1712754000-1712754000@www.lexingtontownship.org
SUMMARY:SPECIAL ELECTION COMMISSION MEETING
DESCRIPTION:LEXINGTON TOWNSHIP\n7227 Huron Avenue\, Suite 200\nLexington MI 48450\nPhone: 810-359-5500\nFax: 810-359-5481\nwww.lexingtontownship.org \nSPECIAL ELECTION COMMISSION\nMEETING NOTICE AND AGENDA \nDATE AND TIME OF THIS MEETING:\nWednesday\, April 10\, 2024 at 1:00 pm \nCALL TO ORDER BY SUPERVISOR\nSALUTE TO THE FLAG\nROLL CALL \nNEW BUSINESS:\n1. ELCTION COMMISSION APPOINTMENT OF PUBLIC TESTING \n2. APPOINT ELECTION WORKERS \n3. APPOINT CHAIRPERSON \n4. APPOINT RECEIVING BOARD \nCLOSE OF MEETING \n
URL:https://www.lexingtontownship.org/event/special-election-commission-meeting/
END:VEVENT
END:VCALENDAR