BEGIN:VCALENDAR
VERSION:2.0
PRODID:-//Lexington - ECPv4.9.8//NONSGML v1.0//EN
CALSCALE:GREGORIAN
METHOD:PUBLISH
X-WR-CALNAME:Lexington
X-ORIGINAL-URL:https://www.lexingtontownship.org
X-WR-CALDESC:Events for Lexington
BEGIN:VTIMEZONE
TZID:America/Detroit
BEGIN:DAYLIGHT
TZOFFSETFROM:-0500
TZOFFSETTO:-0400
TZNAME:EDT
DTSTART:20230312T070000
END:DAYLIGHT
BEGIN:STANDARD
TZOFFSETFROM:-0400
TZOFFSETTO:-0500
TZNAME:EST
DTSTART:20231105T060000
END:STANDARD
END:VTIMEZONE
BEGIN:VEVENT
DTSTART;TZID="America/Detroit":20230119T180000
DTEND;TZID="America/Detroit":20230119T180000
DTSTAMP:20260420T002528
CREATED:20221219T211940Z
LAST-MODIFIED:20221219T211940Z
UID:7207-1674151200-1674151200@www.lexingtontownship.org
SUMMARY:Board of Trustees Meeting
DESCRIPTION:
URL:https://www.lexingtontownship.org/event/board-of-trustees-meeting-50/
END:VEVENT
END:VCALENDAR