BEGIN:VCALENDAR
VERSION:2.0
PRODID:-//Lexington - ECPv4.9.8//NONSGML v1.0//EN
CALSCALE:GREGORIAN
METHOD:PUBLISH
X-WR-CALNAME:Lexington
X-ORIGINAL-URL:https://www.lexingtontownship.org
X-WR-CALDESC:Events for Lexington
BEGIN:VTIMEZONE
TZID:America/Detroit
BEGIN:DAYLIGHT
TZOFFSETFROM:-0500
TZOFFSETTO:-0400
TZNAME:EDT
DTSTART:20230312T070000
END:DAYLIGHT
BEGIN:STANDARD
TZOFFSETFROM:-0400
TZOFFSETTO:-0500
TZNAME:EST
DTSTART:20231105T060000
END:STANDARD
END:VTIMEZONE
BEGIN:VEVENT
DTSTART;VALUE=DATE:20230116
DTEND;VALUE=DATE:20230117
DTSTAMP:20260420T060235
CREATED:20230111T204058Z
LAST-MODIFIED:20230111T204058Z
UID:7297-1673827200-1673913599@www.lexingtontownship.org
SUMMARY:Office Closed
DESCRIPTION:IN OBSERVANCE\nOF\nMARTIN LUTHER KING DAY\nLEXINGTON TOWNSHIP OFFICE \nWILL BE CLOSED\nMonday \nJANUARY 16\, 2023\n
URL:https://www.lexingtontownship.org/event/office-closed-11/
END:VEVENT
END:VCALENDAR