BEGIN:VCALENDAR
VERSION:2.0
PRODID:-//Lexington - ECPv4.9.8//NONSGML v1.0//EN
CALSCALE:GREGORIAN
METHOD:PUBLISH
X-WR-CALNAME:Lexington
X-ORIGINAL-URL:https://www.lexingtontownship.org
X-WR-CALDESC:Events for Lexington
BEGIN:VTIMEZONE
TZID:America/Detroit
BEGIN:DAYLIGHT
TZOFFSETFROM:-0500
TZOFFSETTO:-0400
TZNAME:EDT
DTSTART:20220313T070000
END:DAYLIGHT
BEGIN:STANDARD
TZOFFSETFROM:-0400
TZOFFSETTO:-0500
TZNAME:EST
DTSTART:20221106T060000
END:STANDARD
END:VTIMEZONE
BEGIN:VEVENT
DTSTART;VALUE=DATE:20221226
DTEND;VALUE=DATE:20221227
DTSTAMP:20260421T184513
CREATED:20221221T182903Z
LAST-MODIFIED:20221221T182903Z
UID:7257-1672012800-1672099199@www.lexingtontownship.org
SUMMARY:OFFICE CLOSED
DESCRIPTION:LEXINGTON TOWNSHIP\n\nWILL BE CLOSED\n\nMONDAY\, DECEMBER 26\, 2022\nAND\nMONDAY\, JANUARY 2\, 2023\n
URL:https://www.lexingtontownship.org/event/office-closed-9/
END:VEVENT
END:VCALENDAR