BEGIN:VCALENDAR
VERSION:2.0
PRODID:-//Lexington - ECPv4.9.8//NONSGML v1.0//EN
CALSCALE:GREGORIAN
METHOD:PUBLISH
X-WR-CALNAME:Lexington
X-ORIGINAL-URL:https://www.lexingtontownship.org
X-WR-CALDESC:Events for Lexington
BEGIN:VTIMEZONE
TZID:America/Detroit
BEGIN:DAYLIGHT
TZOFFSETFROM:-0500
TZOFFSETTO:-0400
TZNAME:EDT
DTSTART:20220313T070000
END:DAYLIGHT
BEGIN:STANDARD
TZOFFSETFROM:-0400
TZOFFSETTO:-0500
TZNAME:EST
DTSTART:20221106T060000
END:STANDARD
END:VTIMEZONE
BEGIN:VEVENT
DTSTART;TZID="America/Detroit":20221215T180000
DTEND;TZID="America/Detroit":20221215T180000
DTSTAMP:20260422T134340
CREATED:20220103T201509Z
LAST-MODIFIED:20220103T201509Z
UID:6216-1671127200-1671127200@www.lexingtontownship.org
SUMMARY:Board of Trustees Meeting
DESCRIPTION:
URL:https://www.lexingtontownship.org/event/board-of-trustees-meeting-49/
END:VEVENT
END:VCALENDAR